BEGIN:VCALENDAR
VERSION:2.0
PRODID:-//Projet inclusion - ECPv5.11.0//NONSGML v1.0//EN
CALSCALE:GREGORIAN
METHOD:PUBLISH
X-WR-CALNAME:Projet inclusion
X-ORIGINAL-URL:https://pceim.ca
X-WR-CALDESC:évènements pour Projet inclusion
BEGIN:VTIMEZONE
TZID:UTC
BEGIN:STANDARD
TZOFFSETFROM:+0000
TZOFFSETTO:+0000
TZNAME:UTC
DTSTART:20180101T000000
END:STANDARD
END:VTIMEZONE
BEGIN:VEVENT
DTSTART;TZID=UTC:20180906T170000
DTEND;TZID=UTC:20180906T190000
DTSTAMP:20260423T212215
CREATED:20180703T165803Z
LAST-MODIFIED:20180703T165803Z
UID:598-1536253200-1536260400@pceim.ca
SUMMARY:5 à 7 artistique
DESCRIPTION:Le jeudi 6 septembre\, soyez des nôtres pour un 5@7 tout en images\, où nous dévoilerons notre expo photo collective. Des grignotines et consommations avec et sans alcool seront offertes. Inscription au 514-255-1054. \n5 À 7 ARTISTIQUE\nPCEIM | 5350\, rue Lafond\n17h à 19h | Gratuit et ouvert à tous\nGrignotines et consommations servies
URL:https://pceim.ca/evenement/5-a-7-artistique/
LOCATION:PCEIM\, 5350 rue Lafond\, Montréal\, Québec\, H1X 2X2\, Canada
CATEGORIES:ÉVÈNEMENT
ATTACH;FMTTYPE=image/jpeg:https://pceim.ca/wp-content/uploads/2018/07/calendrier-evenement.jpg
END:VEVENT
END:VCALENDAR