BEGIN:VCALENDAR
VERSION:2.0
PRODID:-//Projet inclusion - ECPv5.11.0//NONSGML v1.0//EN
CALSCALE:GREGORIAN
METHOD:PUBLISH
X-WR-CALNAME:Projet inclusion
X-ORIGINAL-URL:https://pceim.ca
X-WR-CALDESC:évènements pour Projet inclusion
BEGIN:VTIMEZONE
TZID:UTC
BEGIN:STANDARD
TZOFFSETFROM:+0000
TZOFFSETTO:+0000
TZNAME:UTC
DTSTART:20230101T000000
END:STANDARD
END:VTIMEZONE
BEGIN:VEVENT
DTSTART;TZID=UTC:20230329T123000
DTEND;TZID=UTC:20230329T150000
DTSTAMP:20260421T064031
CREATED:20230220T193801Z
LAST-MODIFIED:20230220T193801Z
UID:2039-1680093000-1680102000@pceim.ca
SUMMARY:Abraham Lincoln va au théâtre
DESCRIPTION:Grace au programme « Ma place au théâtre » et le théâtre du nouveau monde\, tu es invité·e à venir assister au spectacle\n« Abraham Lincoln va au théâtre ».\nDans cette pièce\, aussi ludique que lucide\, chaque vérité finit par se révéler être un mensonge\, qui lui-même n’est peut-être que le travestissement d’une réalité potentiellement incertaine\, tel un enchâssement de poupées russes. Ne manque pas cette chance de rencontrer de nouvelles personnes\, on participe avec le groupe du café des voisins!
URL:https://pceim.ca/evenement/abraham-lincoln-va-au-theatre/
CATEGORIES:PROJET DE L'ORGANISME
END:VEVENT
END:VCALENDAR