BEGIN:VCALENDAR
VERSION:2.0
PRODID:-//Projet inclusion - ECPv5.11.0//NONSGML v1.0//EN
CALSCALE:GREGORIAN
METHOD:PUBLISH
X-WR-CALNAME:Projet inclusion
X-ORIGINAL-URL:https://pceim.ca
X-WR-CALDESC:évènements pour Projet inclusion
BEGIN:VTIMEZONE
TZID:UTC
BEGIN:STANDARD
TZOFFSETFROM:+0000
TZOFFSETTO:+0000
TZNAME:UTC
DTSTART:20190101T000000
END:STANDARD
END:VTIMEZONE
BEGIN:VEVENT
DTSTART;TZID=UTC:20190606T170000
DTEND;TZID=UTC:20190606T190000
DTSTAMP:20260424T014614
CREATED:20180323T163221Z
LAST-MODIFIED:20190515T183802Z
UID:526-1559840400-1559847600@pceim.ca
SUMMARY:Assemblée générale annuelle
DESCRIPTION:Le jeudi 6 juin\, venez participer à la vie démocratique du PCEIM en assistant à notre assemblée générale annuelle (AGA). C’est un moment important pour prendre connaissance des réalisations et des défis de l’organisme sur l’année\, ainsi que les projets et initiatives à venir. L’AGA sera suivie d’un apéro festif et aura lieu au 5350\, rue Lafond de 17h à 19h. Inscription au 514-255-1054. \n+ GOOGLE AGENDA+ EXPORTER VERS ICAL
URL:https://pceim.ca/evenement/assemblee-generale-annuelle/
LOCATION:PCEIM\, 5350 rue Lafond\, Montréal\, Québec\, H1X 2X2\, Canada
CATEGORIES:ÉVÈNEMENT
ATTACH;FMTTYPE=image/jpeg:https://pceim.ca/wp-content/uploads/2018/03/dsc_7821.jpg
END:VEVENT
END:VCALENDAR