BEGIN:VCALENDAR
VERSION:2.0
PRODID:-//Projet inclusion - ECPv5.11.0//NONSGML v1.0//EN
CALSCALE:GREGORIAN
METHOD:PUBLISH
X-WR-CALNAME:Projet inclusion
X-ORIGINAL-URL:https://pceim.ca
X-WR-CALDESC:évènements pour Projet inclusion
BEGIN:VTIMEZONE
TZID:UTC
BEGIN:STANDARD
TZOFFSETFROM:+0000
TZOFFSETTO:+0000
TZNAME:UTC
DTSTART:20200101T000000
END:STANDARD
END:VTIMEZONE
BEGIN:VEVENT
DTSTART;TZID=UTC:20200316T133000
DTEND;TZID=UTC:20200316T153000
DTSTAMP:20260422T155807
CREATED:20200106T165335Z
LAST-MODIFIED:20200106T165335Z
UID:1127-1584365400-1584372600@pceim.ca
SUMMARY:Atelier artistique
DESCRIPTION:ATELIER ARTISTIQUE\nPCEIM | 5350\, rue Lafond\n13h30 à 15h30 | Gratuit\nThème : Peinture sur pot \nCette session encore\, on vous propose trois ateliers artistiques pour continuer à développer votre créativité et apprendre de nouvelles techniques! Inscription au 514-255-1054.
URL:https://pceim.ca/evenement/atelier-artistique-12/
LOCATION:PCEIM\, 5350 rue Lafond\, Montréal\, Québec\, H1X 2X2\, Canada
CATEGORIES:PROJET DE L'ORGANISME
ATTACH;FMTTYPE=image/jpeg:https://pceim.ca/wp-content/uploads/2019/01/calendrier-atelier-art.jpg
END:VEVENT
END:VCALENDAR