BEGIN:VCALENDAR
VERSION:2.0
PRODID:-//Projet inclusion - ECPv5.11.0//NONSGML v1.0//EN
CALSCALE:GREGORIAN
METHOD:PUBLISH
X-WR-CALNAME:Projet inclusion
X-ORIGINAL-URL:https://pceim.ca
X-WR-CALDESC:évènements pour Projet inclusion
BEGIN:VTIMEZONE
TZID:UTC
BEGIN:STANDARD
TZOFFSETFROM:+0000
TZOFFSETTO:+0000
TZNAME:UTC
DTSTART:20220101T000000
END:STANDARD
END:VTIMEZONE
BEGIN:VEVENT
DTSTART;TZID=UTC:20220124T133000
DTEND;TZID=UTC:20220124T153000
DTSTAMP:20260422T065519
CREATED:20220113T174701Z
LAST-MODIFIED:20220113T174829Z
UID:1528-1643031000-1643038200@pceim.ca
SUMMARY:Atelier d'art
DESCRIPTION:ATELIER D’ART – Coloriage/mandala\nCentre Lapalme  |  5350 Lafond\n13h30 à 15h30 \nUn moment de détente artistique vous attend! À la demande de membres\, nous reprenons un moment pour mettre de la couleur sur des dessins tracés. Il sera aussi possible de mettre une ambiance musicale\, préparez vos demandes spéciales de musique calme.
URL:https://pceim.ca/evenement/atelier-dart-2/
LOCATION:PCEIM\, 5350 rue Lafond\, Montréal\, Québec\, H1X 2X2\, Canada
CATEGORIES:PROJET DE L'ORGANISME
ATTACH;FMTTYPE=image/jpeg:https://pceim.ca/wp-content/uploads/2019/01/calendrier-atelier-art.jpg
END:VEVENT
END:VCALENDAR