BEGIN:VCALENDAR
VERSION:2.0
PRODID:-//Projet inclusion - ECPv5.11.0//NONSGML v1.0//EN
CALSCALE:GREGORIAN
METHOD:PUBLISH
X-WR-CALNAME:Projet inclusion
X-ORIGINAL-URL:https://pceim.ca
X-WR-CALDESC:évènements pour Projet inclusion
BEGIN:VTIMEZONE
TZID:UTC
BEGIN:STANDARD
TZOFFSETFROM:+0000
TZOFFSETTO:+0000
TZNAME:UTC
DTSTART:20220101T000000
END:STANDARD
END:VTIMEZONE
BEGIN:VEVENT
DTSTART;TZID=UTC:20220207T133000
DTEND;TZID=UTC:20220207T160000
DTSTAMP:20260420T072144
CREATED:20220204T163445Z
LAST-MODIFIED:20220204T174544Z
UID:1547-1644240600-1644249600@pceim.ca
SUMMARY:Atelier d'art
DESCRIPTION:Atelier d’art – Cartes St-Valentin\nCentre Lapalme | 5350 Lafond\n13h30 à 15h30 \nLa fête de l’amour et de l’amitié approche\, prenez un moment pour venir créer une carte afin de l’offrir à une personne que vous appréciez. Une belle occasion de se dire combien les personnes sont précieuses dans notre vie. Une petite douceur chocolatée sera offerte.
URL:https://pceim.ca/evenement/atelier-dart-3/
LOCATION:PCEIM\, 5350 rue Lafond\, Montréal\, Québec\, H1X 2X2\, Canada
CATEGORIES:PROJET DE L'ORGANISME
ATTACH;FMTTYPE=image/jpeg:https://pceim.ca/wp-content/uploads/2019/01/calendrier-atelier-art.jpg
END:VEVENT
END:VCALENDAR