BEGIN:VCALENDAR
VERSION:2.0
PRODID:-//Projet inclusion - ECPv5.11.0//NONSGML v1.0//EN
CALSCALE:GREGORIAN
METHOD:PUBLISH
X-WR-CALNAME:Projet inclusion
X-ORIGINAL-URL:https://pceim.ca
X-WR-CALDESC:évènements pour Projet inclusion
BEGIN:VTIMEZONE
TZID:UTC
BEGIN:STANDARD
TZOFFSETFROM:+0000
TZOFFSETTO:+0000
TZNAME:UTC
DTSTART:20220101T000000
END:STANDARD
END:VTIMEZONE
BEGIN:VEVENT
DTSTART;TZID=UTC:20220425T133000
DTEND;TZID=UTC:20220425T153000
DTSTAMP:20260420T210819
CREATED:20220404T181701Z
LAST-MODIFIED:20220404T181806Z
UID:1716-1650893400-1650900600@pceim.ca
SUMMARY:Atelier d'art
DESCRIPTION:Atelier d’art – bijoux\nCentre Lapalme | 5350 Lafond\n13h30 à 15h30 \nVoilà une occasion de rencontrer de nouvelles personnes et de revoir des membres du PCEIM\, tout en créant un bijou personnalisé! Vous pouvez en faire un cadeau pour quelqu’un que vous connaissez ou pour vous-même. Matériel fourni et breuvage offert.
URL:https://pceim.ca/evenement/atelier-dart-5/
LOCATION:PCEIM\, 5350 rue Lafond\, Montréal\, Québec\, H1X 2X2\, Canada
CATEGORIES:PROJET DE L'ORGANISME
END:VEVENT
END:VCALENDAR