BEGIN:VCALENDAR
VERSION:2.0
PRODID:-//Projet inclusion - ECPv5.11.0//NONSGML v1.0//EN
CALSCALE:GREGORIAN
METHOD:PUBLISH
X-WR-CALNAME:Projet inclusion
X-ORIGINAL-URL:https://pceim.ca
X-WR-CALDESC:évènements pour Projet inclusion
BEGIN:VTIMEZONE
TZID:UTC
BEGIN:STANDARD
TZOFFSETFROM:+0000
TZOFFSETTO:+0000
TZNAME:UTC
DTSTART:20230101T000000
END:STANDARD
END:VTIMEZONE
BEGIN:VEVENT
DTSTART;TZID=UTC:20230123T133000
DTEND;TZID=UTC:20230123T153000
DTSTAMP:20260421T171706
CREATED:20230111T192228Z
LAST-MODIFIED:20230111T192331Z
UID:1919-1674480600-1674487800@pceim.ca
SUMMARY:Atelier d'art
DESCRIPTION:RESERVE AUX MEMBRES – INSCRIPTION OBLIGATOIRE \nOn sort les pinceaux et les spatules pour créer une toile abstraite. Nous pourrons voir quelques images et de discuter à propos d’oeuvres abstraites d’artistes connus tel que Mondrian et Kandinsky afin de s’inspirer. Le matériel\, un café et une collation sont offert. N’oublie pas d’apporter un sac pour repartir avec ta création.
URL:https://pceim.ca/evenement/atelier-dart-6/
LOCATION:PCEIM\, 5350 rue Lafond\, Montréal\, Québec\, H1X 2X2\, Canada
CATEGORIES:PROJET DE L'ORGANISME
END:VEVENT
END:VCALENDAR