BEGIN:VCALENDAR
VERSION:2.0
PRODID:-//Projet inclusion - ECPv5.11.0//NONSGML v1.0//EN
CALSCALE:GREGORIAN
METHOD:PUBLISH
X-WR-CALNAME:Projet inclusion
X-ORIGINAL-URL:https://pceim.ca
X-WR-CALDESC:évènements pour Projet inclusion
BEGIN:VTIMEZONE
TZID:UTC
BEGIN:STANDARD
TZOFFSETFROM:+0000
TZOFFSETTO:+0000
TZNAME:UTC
DTSTART:20220101T000000
END:STANDARD
END:VTIMEZONE
BEGIN:VEVENT
DTSTART;TZID=UTC:20220318T133000
DTEND;TZID=UTC:20220318T150000
DTSTAMP:20260421T050701
CREATED:20220216T205611Z
LAST-MODIFIED:20220216T205855Z
UID:1653-1647610200-1647615600@pceim.ca
SUMMARY:Atelier d’art - peinture sur toile
DESCRIPTION:ATELIER D’ART – PEINTURE SUR TOILE\nCentre Lapalme | 5350 Lafond\n13h30 à 15h30 \nOn sort les pinceaux et l’acrylique pour partager un moment créatif! Que vous décidiez de peindre une fleur\, un personnage ou une abstraction\, c’est toujours agréable de voir l’œuvre de chacun. Apportez une image d’inspiration au besoin et un sac pour repartir avec votre toile.
URL:https://pceim.ca/evenement/atelier-dart-peinture-sur-toile/
LOCATION:PCEIM\, 5350 rue Lafond\, Montréal\, Québec\, H1X 2X2\, Canada
CATEGORIES:PROJET DE L'ORGANISME
END:VEVENT
END:VCALENDAR