BEGIN:VCALENDAR
VERSION:2.0
PRODID:-//Projet inclusion - ECPv5.11.0//NONSGML v1.0//EN
CALSCALE:GREGORIAN
METHOD:PUBLISH
X-WR-CALNAME:Projet inclusion
X-ORIGINAL-URL:https://pceim.ca
X-WR-CALDESC:évènements pour Projet inclusion
BEGIN:VTIMEZONE
TZID:UTC
BEGIN:STANDARD
TZOFFSETFROM:+0000
TZOFFSETTO:+0000
TZNAME:UTC
DTSTART:20230101T000000
END:STANDARD
END:VTIMEZONE
BEGIN:VEVENT
DTSTART;TZID=UTC:20230313T133000
DTEND;TZID=UTC:20230313T153000
DTSTAMP:20260422T031033
CREATED:20230220T192554Z
LAST-MODIFIED:20230220T192554Z
UID:2029-1678714200-1678721400@pceim.ca
SUMMARY:Atelier d'art - Poterie décorative
DESCRIPTION:Viens créer une poterie décorative avec le l’argile sans cuisson en bonne compagnie!\nA une époque où la tête et la pensée sont très sollicitées\, l’argile mobilise essentiellement le toucher\, donnant un temps de pause et permettant d’accéder à notre enfant intérieur. Une belle occasion de trouver du calme et de la bonne humeur!
URL:https://pceim.ca/evenement/atelier-dart-poterie-decorative/
CATEGORIES:PROJET DE L'ORGANISME
END:VEVENT
END:VCALENDAR