BEGIN:VCALENDAR
VERSION:2.0
PRODID:-//Projet inclusion - ECPv5.11.0//NONSGML v1.0//EN
CALSCALE:GREGORIAN
METHOD:PUBLISH
X-WR-CALNAME:Projet inclusion
X-ORIGINAL-URL:https://pceim.ca
X-WR-CALDESC:évènements pour Projet inclusion
BEGIN:VTIMEZONE
TZID:UTC
BEGIN:STANDARD
TZOFFSETFROM:+0000
TZOFFSETTO:+0000
TZNAME:UTC
DTSTART:20210101T000000
END:STANDARD
END:VTIMEZONE
BEGIN:VEVENT
DTSTART;TZID=UTC:20211203T140000
DTEND;TZID=UTC:20211203T153000
DTSTAMP:20260422T095631
CREATED:20211214T161018Z
LAST-MODIFIED:20211214T161018Z
UID:1494-1638540000-1638545400@pceim.ca
SUMMARY:Atelier d'improvisation
DESCRIPTION:On en est déjà à notre dernier atelier d’improvisation pour l’année 2021! Nous prendrons donc un moment pour faire un bilan de ce que nous avons appris depuis le début des ateliers\, le tout ponctué de courtes improvisations et de défis.
URL:https://pceim.ca/evenement/atelier-dimprovisation/
LOCATION:PCEIM\, 5350 rue Lafond\, Montréal\, Québec\, H1X 2X2\, Canada
CATEGORIES:PROJET DE L'ORGANISME
END:VEVENT
END:VCALENDAR