BEGIN:VCALENDAR
VERSION:2.0
PRODID:-//Projet inclusion - ECPv5.11.0//NONSGML v1.0//EN
CALSCALE:GREGORIAN
METHOD:PUBLISH
X-WR-CALNAME:Projet inclusion
X-ORIGINAL-URL:https://pceim.ca
X-WR-CALDESC:évènements pour Projet inclusion
BEGIN:VTIMEZONE
TZID:UTC
BEGIN:STANDARD
TZOFFSETFROM:+0000
TZOFFSETTO:+0000
TZNAME:UTC
DTSTART:20180101T000000
END:STANDARD
END:VTIMEZONE
BEGIN:VEVENT
DTSTART;TZID=UTC:20180501T130000
DTEND;TZID=UTC:20180501T150000
DTSTAMP:20260424T050211
CREATED:20180323T161137Z
LAST-MODIFIED:20180323T161137Z
UID:505-1525179600-1525186800@pceim.ca
SUMMARY:Atelier Exeko 3
DESCRIPTION:Faites une sortie musicale en vous impliquant dans un projet d’envergure! Le PCEIM est partenaire du projet Culture partagée d’Exeko\, qui vise à développer une programmation culturelle montréalaise inclusive et enrichie du regard de chacun. La sortie sera au concert Contes et légendes du Nord de l’Orchestre symphonique de Montréal. Pour participer\, vous devez être disponible pour les trois rencontres et vous inscrire : \nMERCREDI 25 AVRIL 2018 : ATELIER PRÉPARATOIRE\nLieu à confirmer | 13h à 15h \nJEUDI 26 AVRIL 2018 : SOUPER & SPECTACLE\nPrestation : Contes et légendes du Nord | 18h15 à 22h\n1600 rue St-Urbain (Maison symphonique) \n1er MAI 2018 : ATELIER D’ANALYSE & RECOMMENDATIONS\n5445 avenue de Gaspé\, Local 405 (Exeko) | 13h à 15h
URL:https://pceim.ca/evenement/atelier-exeko-3/
LOCATION:Exeko\, 5445\, avenue de Gaspé\, Local 405\, Montréal\, Québec\, Canada
CATEGORIES:ACTIVITÉ DE PARTENAIRE
ATTACH;FMTTYPE=image/jpeg:https://pceim.ca/wp-content/uploads/2018/03/osm_montreal.jpg
END:VEVENT
END:VCALENDAR