BEGIN:VCALENDAR
VERSION:2.0
PRODID:-//Projet inclusion - ECPv5.11.0//NONSGML v1.0//EN
CALSCALE:GREGORIAN
METHOD:PUBLISH
X-WR-CALNAME:Projet inclusion
X-ORIGINAL-URL:https://pceim.ca
X-WR-CALDESC:évènements pour Projet inclusion
BEGIN:VTIMEZONE
TZID:UTC
BEGIN:STANDARD
TZOFFSETFROM:+0000
TZOFFSETTO:+0000
TZNAME:UTC
DTSTART:20230101T000000
END:STANDARD
END:VTIMEZONE
BEGIN:VEVENT
DTSTART;TZID=UTC:20230327T133000
DTEND;TZID=UTC:20230327T153000
DTSTAMP:20260420T210922
CREATED:20230220T193329Z
LAST-MODIFIED:20230220T193329Z
UID:2035-1679923800-1679931000@pceim.ca
SUMMARY:Atelier humour
DESCRIPTION:Humoriste\, professeur à l’école national de l’humour et animateur de la série web « Cultive ton comique »\, Jérémie Larouche te propose un atelier pour développer le comique qui sommeille en toi. Viens apprendre et partager tes idées afin de participer au nouveau projet humoristique rassembleur au PCEIM!
URL:https://pceim.ca/evenement/atelier-humour-2/
CATEGORIES:PROJET DE L'ORGANISME
END:VEVENT
END:VCALENDAR