BEGIN:VCALENDAR
VERSION:2.0
PRODID:-//Projet inclusion - ECPv5.11.0//NONSGML v1.0//EN
CALSCALE:GREGORIAN
METHOD:PUBLISH
X-WR-CALNAME:Projet inclusion
X-ORIGINAL-URL:https://pceim.ca
X-WR-CALDESC:évènements pour Projet inclusion
BEGIN:VTIMEZONE
TZID:UTC
BEGIN:STANDARD
TZOFFSETFROM:+0000
TZOFFSETTO:+0000
TZNAME:UTC
DTSTART:20230101T000000
END:STANDARD
END:VTIMEZONE
BEGIN:VEVENT
DTSTART;TZID=UTC:20230306T133000
DTEND;TZID=UTC:20230306T153000
DTSTAMP:20260420T204533
CREATED:20230220T192057Z
LAST-MODIFIED:20230220T192057Z
UID:2025-1678109400-1678116600@pceim.ca
SUMMARY:Atelier Humour
DESCRIPTION:Nous te proposons de participer à un projet rassembleur!\nLors de cette première rencontre\, nous parlerons du projet humoristique proposé et répondrons à tes questions. Ne manque pas cette occasion de créer ensemble des opportunités de rencontres et d’échanges!
URL:https://pceim.ca/evenement/atelier-humour/
CATEGORIES:PROJET DE L'ORGANISME
END:VEVENT
END:VCALENDAR