BEGIN:VCALENDAR
VERSION:2.0
PRODID:-//Projet inclusion - ECPv5.11.0//NONSGML v1.0//EN
CALSCALE:GREGORIAN
METHOD:PUBLISH
X-WR-CALNAME:Projet inclusion
X-ORIGINAL-URL:https://pceim.ca
X-WR-CALDESC:évènements pour Projet inclusion
BEGIN:VTIMEZONE
TZID:UTC
BEGIN:STANDARD
TZOFFSETFROM:+0000
TZOFFSETTO:+0000
TZNAME:UTC
DTSTART:20180101T000000
END:STANDARD
END:VTIMEZONE
BEGIN:VEVENT
DTSTART;TZID=UTC:20180129T133000
DTEND;TZID=UTC:20180129T153000
DTSTAMP:20260424T100956
CREATED:20180108T204633Z
LAST-MODIFIED:20180109T194012Z
UID:357-1517232600-1517239800@pceim.ca
SUMMARY:Atelier informatique
DESCRIPTION:Nous vous accueillons deux fois par mois pour des ateliers d’initiation à l’ordinateur et à l’informatique. Voulez-vous apprendre à faire des recherches sur internet\, créer et utiliser une boîte courriel\, etc.? Ces thèmes et plusieurs autres sont abordés par un formateur qui vous accompagne! Les places sont limitées à 4 par atelier\, inscrivez-vous au 514-255-1054 pour réserver la vôtre.
URL:https://pceim.ca/evenement/atelier-informatique/
LOCATION:PCEIM\, 5350 rue Lafond\, Montréal\, Québec\, H1X 2X2\, Canada
CATEGORIES:PROJET DE L'ORGANISME
ATTACH;FMTTYPE=image/jpeg:https://pceim.ca/wp-content/uploads/2018/01/calendrier-atelier-info.jpg
END:VEVENT
END:VCALENDAR