BEGIN:VCALENDAR
VERSION:2.0
PRODID:-//Projet inclusion - ECPv5.11.0//NONSGML v1.0//EN
CALSCALE:GREGORIAN
METHOD:PUBLISH
X-WR-CALNAME:Projet inclusion
X-ORIGINAL-URL:https://pceim.ca
X-WR-CALDESC:évènements pour Projet inclusion
BEGIN:VTIMEZONE
TZID:UTC
BEGIN:STANDARD
TZOFFSETFROM:+0000
TZOFFSETTO:+0000
TZNAME:UTC
DTSTART:20180101T000000
END:STANDARD
END:VTIMEZONE
BEGIN:VEVENT
DTSTART;TZID=UTC:20180709T130000
DTEND;TZID=UTC:20180709T153000
DTSTAMP:20260422T105346
CREATED:20180703T153325Z
LAST-MODIFIED:20180703T153325Z
UID:549-1531141200-1531150200@pceim.ca
SUMMARY:Atelier photo
DESCRIPTION:On vous propose une série de 7 ateliers photo hebdomadaires pour découvrir les bases de la photographie. Les ateliers porteront sur différents aspects artistiques et techniques de la photo\, et nous expérimenterons l’art à travers des exercices simples et accessibles autant aux débutants qu’à ceux qui ont déjà pris des photos. \nCertains ateliers comporteront des sorties aux alentours du PCEIM\, cette activité n’est donc pas adaptée aux personnes à mobilité réduite et nécessitant une assistance dans leurs déplacements.
URL:https://pceim.ca/evenement/atelier-photo/
LOCATION:PCEIM\, 5350 rue Lafond\, Montréal\, Québec\, H1X 2X2\, Canada
CATEGORIES:PROJET DE L'ORGANISME
ATTACH;FMTTYPE=image/jpeg:https://pceim.ca/wp-content/uploads/2018/07/calendrier-atelier-photo.jpg
END:VEVENT
END:VCALENDAR