BEGIN:VCALENDAR
VERSION:2.0
PRODID:-//Projet inclusion - ECPv5.11.0//NONSGML v1.0//EN
CALSCALE:GREGORIAN
METHOD:PUBLISH
X-WR-CALNAME:Projet inclusion
X-ORIGINAL-URL:https://pceim.ca
X-WR-CALDESC:évènements pour Projet inclusion
BEGIN:VTIMEZONE
TZID:UTC
BEGIN:STANDARD
TZOFFSETFROM:+0000
TZOFFSETTO:+0000
TZNAME:UTC
DTSTART:20180101T000000
END:STANDARD
END:VTIMEZONE
BEGIN:VEVENT
DTSTART;TZID=UTC:20180125T130000
DTEND;TZID=UTC:20180125T153000
DTSTAMP:20260424T084826
CREATED:20180108T191359Z
LAST-MODIFIED:20180109T193640Z
UID:355-1516885200-1516894200@pceim.ca
SUMMARY:Bilan & potluck cuisine collective
DESCRIPTION:Vous êtes invités à faire le bilan de la cuisine collective\, puis à réfléchir et discuter en groupe au fonctionnement de la cuisine collective pour l’année 2018. L’activité sera une formule potluck\, où chacun apporte un plat à partager avec les autres. Jeudi 25 janvier\, 13h30 à 15h30. Appelez pour vous inscrire et nous aviser du plat que vous apportez au 514-255-1054.
URL:https://pceim.ca/evenement/bilan-potluck-cuisine-collective/
LOCATION:PCEIM\, 5350 rue Lafond\, Montréal\, Québec\, H1X 2X2\, Canada
CATEGORIES:PROJET DE L'ORGANISME
ATTACH;FMTTYPE=image/jpeg:https://pceim.ca/wp-content/uploads/2018/01/calendrier-planif-cuisine.jpg
END:VEVENT
END:VCALENDAR