BEGIN:VCALENDAR
VERSION:2.0
PRODID:-//Projet inclusion - ECPv5.11.0//NONSGML v1.0//EN
CALSCALE:GREGORIAN
METHOD:PUBLISH
X-WR-CALNAME:Projet inclusion
X-ORIGINAL-URL:https://pceim.ca
X-WR-CALDESC:évènements pour Projet inclusion
BEGIN:VTIMEZONE
TZID:UTC
BEGIN:STANDARD
TZOFFSETFROM:+0000
TZOFFSETTO:+0000
TZNAME:UTC
DTSTART:20230101T000000
END:STANDARD
END:VTIMEZONE
BEGIN:VEVENT
DTSTART;TZID=UTC:20230317T113000
DTEND;TZID=UTC:20230317T133000
DTSTAMP:20260421T065007
CREATED:20230220T193129Z
LAST-MODIFIED:20230220T193129Z
UID:2033-1679052600-1679059800@pceim.ca
SUMMARY:Brunch temps des sucres
DESCRIPTION:Savoure l’ambiance du temps des sucres lors d’un brunch au restaurant.\nCe n’est pas une cabane à sucre\, mais tu auras l’occasion de te sucrer le bec au sirop d’érable tout en discutant avec le groupe. Quoi de plus réconfortant que d’échanger autour d’un bon repas et d’un café!
URL:https://pceim.ca/evenement/brunch-temps-des-sucres/
CATEGORIES:ACTIVITÉ ORGANISÉE PAR LES MEMBRES
END:VEVENT
END:VCALENDAR