BEGIN:VCALENDAR
VERSION:2.0
PRODID:-//Projet inclusion - ECPv5.11.0//NONSGML v1.0//EN
CALSCALE:GREGORIAN
METHOD:PUBLISH
X-WR-CALNAME:Projet inclusion
X-ORIGINAL-URL:https://pceim.ca
X-WR-CALDESC:évènements pour Projet inclusion
BEGIN:VTIMEZONE
TZID:UTC
BEGIN:STANDARD
TZOFFSETFROM:+0000
TZOFFSETTO:+0000
TZNAME:UTC
DTSTART:20180101T000000
END:STANDARD
END:VTIMEZONE
BEGIN:VEVENT
DTSTART;VALUE=DATE:20181222
DTEND;VALUE=DATE:20190107
DTSTAMP:20260424T035804
CREATED:20180925T212920Z
LAST-MODIFIED:20180925T212920Z
UID:664-1545436800-1546819199@pceim.ca
SUMMARY:Bureaux fermés
DESCRIPTION:Bureaux fermés du 22 décembre 2018 au 6 janvier 2019 pour les fêtes de fin d’année!
URL:https://pceim.ca/evenement/bureaux-fermes-4/
CATEGORIES:BUREAUX FERMÉS
END:VEVENT
END:VCALENDAR