BEGIN:VCALENDAR
VERSION:2.0
PRODID:-//Projet inclusion - ECPv5.11.0//NONSGML v1.0//EN
CALSCALE:GREGORIAN
METHOD:PUBLISH
X-WR-CALNAME:Projet inclusion
X-ORIGINAL-URL:https://pceim.ca
X-WR-CALDESC:évènements pour Projet inclusion
BEGIN:VTIMEZONE
TZID:UTC
BEGIN:STANDARD
TZOFFSETFROM:+0000
TZOFFSETTO:+0000
TZNAME:UTC
DTSTART:20180101T000000
END:STANDARD
END:VTIMEZONE
BEGIN:VEVENT
DTSTART;VALUE=DATE:20180521
DTEND;VALUE=DATE:20180522
DTSTAMP:20260424T035731
CREATED:20180109T205139Z
LAST-MODIFIED:20180109T205139Z
UID:399-1526860800-1526947199@pceim.ca
SUMMARY:Bureaux fermés
DESCRIPTION:Veuillez noter que les bureaux du PCEIM sont fermés le lundi 21 mai pour la Journée des patriotes/Fête de la reine
URL:https://pceim.ca/evenement/bureaux-fermes/
CATEGORIES:BUREAUX FERMÉS
END:VEVENT
END:VCALENDAR