BEGIN:VCALENDAR
VERSION:2.0
PRODID:-//Projet inclusion - ECPv5.11.0//NONSGML v1.0//EN
CALSCALE:GREGORIAN
METHOD:PUBLISH
X-WR-CALNAME:Projet inclusion
X-ORIGINAL-URL:https://pceim.ca
X-WR-CALDESC:évènements pour Projet inclusion
BEGIN:VTIMEZONE
TZID:UTC
BEGIN:STANDARD
TZOFFSETFROM:+0000
TZOFFSETTO:+0000
TZNAME:UTC
DTSTART:20190101T000000
END:STANDARD
END:VTIMEZONE
BEGIN:VEVENT
DTSTART;TZID=UTC:20190418T170000
DTEND;TZID=UTC:20190418T193000
DTSTAMP:20260424T051601
CREATED:20190325T183334Z
LAST-MODIFIED:20190325T183334Z
UID:787-1555606800-1555615800@pceim.ca
SUMMARY:Cabane à sucre
DESCRIPTION:Cette année nous vous invitons pour une nouvelle formule! Nous vous donnons rendez-vous le 18 avril au restaurant “Le Robin des Bois” à Montréal pour un délicieux souper et des animations. \nJEUDI 18 AVRIL\nRobin des Bois | 4653 Boulevard Saint Laurent\n17h à 19h30 | 10$ avec votre carte de membre | Possibilité d’acheter votre carte de membre 2019 sur place\nPlaces limitées | Inscription nécessaire au 514.255.1054 \n+ GOOGLE AGENDA+ EXPORTER VERS ICAL
URL:https://pceim.ca/evenement/cabane-a-sucre-2/
CATEGORIES:ÉVÈNEMENT
ATTACH;FMTTYPE=image/jpeg:https://pceim.ca/wp-content/uploads/2019/03/cabane-sucre.jpg
END:VEVENT
END:VCALENDAR