BEGIN:VCALENDAR
VERSION:2.0
PRODID:-//Projet inclusion - ECPv5.11.0//NONSGML v1.0//EN
CALSCALE:GREGORIAN
METHOD:PUBLISH
X-WR-CALNAME:Projet inclusion
X-ORIGINAL-URL:https://pceim.ca
X-WR-CALDESC:évènements pour Projet inclusion
BEGIN:VTIMEZONE
TZID:UTC
BEGIN:STANDARD
TZOFFSETFROM:+0000
TZOFFSETTO:+0000
TZNAME:UTC
DTSTART:20220101T000000
END:STANDARD
END:VTIMEZONE
BEGIN:VEVENT
DTSTART;TZID=UTC:20220422T113000
DTEND;TZID=UTC:20220422T133000
DTSTAMP:20260421T155730
CREATED:20220404T181500Z
LAST-MODIFIED:20220404T181500Z
UID:1713-1650627000-1650634200@pceim.ca
SUMMARY:Cabane à sucre
DESCRIPTION:CABANE À SUCRE\nCentre Lapalme | 5350 Lafond\n11h30 à 13h30 | 10$/personne \nVenez vous régaler d’un repas comme à la cabane à sucre! Accueil au centre Lapalme avec un café dès 11h30\, suivi d’un repas\, de musique\, de discussion et d’échanges! Activité au coût de 10$/personne. Places limitées\, inscription avant le jeudi 14 avril.
URL:https://pceim.ca/evenement/cabane-a-sucre-4/
LOCATION:PCEIM\, 5350 rue Lafond\, Montréal\, Québec\, H1X 2X2\, Canada
CATEGORIES:ÉVÈNEMENT
END:VEVENT
END:VCALENDAR