BEGIN:VCALENDAR
VERSION:2.0
PRODID:-//Projet inclusion - ECPv5.11.0//NONSGML v1.0//EN
CALSCALE:GREGORIAN
METHOD:PUBLISH
X-WR-CALNAME:Projet inclusion
X-ORIGINAL-URL:https://pceim.ca
X-WR-CALDESC:évènements pour Projet inclusion
BEGIN:VTIMEZONE
TZID:UTC
BEGIN:STANDARD
TZOFFSETFROM:+0000
TZOFFSETTO:+0000
TZNAME:UTC
DTSTART:20190101T000000
END:STANDARD
END:VTIMEZONE
BEGIN:VEVENT
DTSTART;TZID=UTC:20190306T133000
DTEND;TZID=UTC:20190306T153000
DTSTAMP:20260424T025915
CREATED:20190118T183721Z
LAST-MODIFIED:20190118T183721Z
UID:727-1551879000-1551886200@pceim.ca
SUMMARY:Café-céramique
DESCRIPTION:Le mercredi 6 mars\, de 13h30 à 15h30\, venez prendre un café et expérimenter la peinture sur une pièce céramique de votre choix! Nous payons le temps\, le matériel et un café par personne\, et chacun choisit et paie sa pièce (prévoir entre 10 et 40$). Inscription obligatoire au 514-255-1054. \nSORTIE AU CAFÉ-CÉRAMIQUE\nCéramic Café | 4338\, rue St-Denis\n13h30 à 15h30 | Places limitées\nPièce à vos frais : Prévoir entre 10$ et 40$
URL:https://pceim.ca/evenement/cafe-ceramique-2/
LOCATION:Céramic Café\, 4338\, rue Saint-Denis\, Montréal\, Québec\, Canada
CATEGORIES:ACTIVITÉ ORGANISÉE PAR LES MEMBRES
END:VEVENT
END:VCALENDAR