BEGIN:VCALENDAR
VERSION:2.0
PRODID:-//Projet inclusion - ECPv5.11.0//NONSGML v1.0//EN
CALSCALE:GREGORIAN
METHOD:PUBLISH
X-WR-CALNAME:Projet inclusion
X-ORIGINAL-URL:https://pceim.ca
X-WR-CALDESC:évènements pour Projet inclusion
BEGIN:VTIMEZONE
TZID:UTC
BEGIN:STANDARD
TZOFFSETFROM:+0000
TZOFFSETTO:+0000
TZNAME:UTC
DTSTART:20190101T000000
END:STANDARD
END:VTIMEZONE
BEGIN:VEVENT
DTSTART;TZID=UTC:20190320T133000
DTEND;TZID=UTC:20190320T150000
DTSTAMP:20260424T061429
CREATED:20180108T190854Z
LAST-MODIFIED:20190319T141935Z
UID:350-1553088600-1553094000@pceim.ca
SUMMARY:Café-céramique
DESCRIPTION:Le mercredi 20 mars\, de 13h30 à 15h\, venez prendre un café et expérimenter la peinture sur une pièce céramique de votre choix! Le prix des pièces varient entre 10-40$\, le prix d’un café est environ 5$. Prévoir minimum 15$ pour l’activité. \nInscription obligatoire au 514-255-1054
URL:https://pceim.ca/evenement/cafe-ceramique/
LOCATION:Céramic Café\, 4338\, rue Saint-Denis\, Montréal\, Québec\, Canada
CATEGORIES:ACTIVITÉ ORGANISÉE PAR LES MEMBRES
ATTACH;FMTTYPE=image/jpeg:https://pceim.ca/wp-content/uploads/2018/01/caf-cramique.jpg
END:VEVENT
END:VCALENDAR