BEGIN:VCALENDAR
VERSION:2.0
PRODID:-//Projet inclusion - ECPv5.11.0//NONSGML v1.0//EN
CALSCALE:GREGORIAN
METHOD:PUBLISH
X-WR-CALNAME:Projet inclusion
X-ORIGINAL-URL:https://pceim.ca
X-WR-CALDESC:évènements pour Projet inclusion
BEGIN:VTIMEZONE
TZID:UTC
BEGIN:STANDARD
TZOFFSETFROM:+0000
TZOFFSETTO:+0000
TZNAME:UTC
DTSTART:20200101T000000
END:STANDARD
END:VTIMEZONE
BEGIN:VEVENT
DTSTART;TZID=UTC:20200122T130000
DTEND;TZID=UTC:20200122T150000
DTSTAMP:20260422T184537
CREATED:20200106T163134Z
LAST-MODIFIED:20200106T163134Z
UID:1116-1579698000-1579705200@pceim.ca
SUMMARY:Café Chat L'Heureux
DESCRIPTION:Café Chat L’Heureux | 172\, avenue Duluth Est\n13h à 15h | 5$\, inclut dessert et café \nLe mercredi 22 janvier\, de 13h à 15\, on fait une sortie au café Chat L’Heureux\, un endroit où se détendre\, se relaxer grâce à la présence des chats. L’activité coûte 5$ pour un dessert et un café. Places limitées\, inscription au 514-255-1054.
URL:https://pceim.ca/evenement/cafe-chat-lheureux/
LOCATION:Café Chat L’Heureux\, 172 avenue Duluth est\, Montréal\, Québec\, H2W 1H3\, Canada
CATEGORIES:ACTIVITÉ ORGANISÉE PAR LES MEMBRES
END:VEVENT
END:VCALENDAR