BEGIN:VCALENDAR
VERSION:2.0
PRODID:-//Projet inclusion - ECPv5.11.0//NONSGML v1.0//EN
CALSCALE:GREGORIAN
METHOD:PUBLISH
X-WR-CALNAME:Projet inclusion
X-ORIGINAL-URL:https://pceim.ca
X-WR-CALDESC:évènements pour Projet inclusion
BEGIN:VTIMEZONE
TZID:UTC
BEGIN:STANDARD
TZOFFSETFROM:+0000
TZOFFSETTO:+0000
TZNAME:UTC
DTSTART:20230101T000000
END:STANDARD
END:VTIMEZONE
BEGIN:VEVENT
DTSTART;TZID=UTC:20230322T133000
DTEND;TZID=UTC:20230322T153000
DTSTAMP:20260422T021006
CREATED:20230220T200558Z
LAST-MODIFIED:20230220T200558Z
UID:2060-1679491800-1679499000@pceim.ca
SUMMARY:Café des voisins
DESCRIPTION:Un espace d’échanges entre citoyen.nes du quartier\, ouvert à toutes et tous!\nC’est une occasion de se réunir\, de discuter et d’apprendre ensemble sur le bien-être psychologique\, le tout dans une ambiance conviviale. \nEspace 40ème Beaubien
URL:https://pceim.ca/evenement/cafe-des-voisins-4/
CATEGORIES:PROJET DE L'ORGANISME
END:VEVENT
END:VCALENDAR