BEGIN:VCALENDAR
VERSION:2.0
PRODID:-//Projet inclusion - ECPv5.11.0//NONSGML v1.0//EN
CALSCALE:GREGORIAN
METHOD:PUBLISH
X-WR-CALNAME:Projet inclusion
X-ORIGINAL-URL:https://pceim.ca
X-WR-CALDESC:évènements pour Projet inclusion
BEGIN:VTIMEZONE
TZID:UTC
BEGIN:STANDARD
TZOFFSETFROM:+0000
TZOFFSETTO:+0000
TZNAME:UTC
DTSTART:20190101T000000
END:STANDARD
END:VTIMEZONE
BEGIN:VEVENT
DTSTART;TZID=UTC:20190716T170000
DTEND;TZID=UTC:20190716T190000
DTSTAMP:20260424T050259
CREATED:20190107T203631Z
LAST-MODIFIED:20190515T204046Z
UID:699-1563296400-1563303600@pceim.ca
SUMMARY:Café-rencontre
DESCRIPTION:Le café-rencontre est un moment convivial de rencontre et d’échange sur une thématique ciblée\, choisie selon les besoins et préoccupations du groupe. \nPCEIM | 5350\, rue Lafond\n17h à 19h | Gratuit
URL:https://pceim.ca/evenement/cafe-rencontre-24/
LOCATION:PCEIM\, 5350 rue Lafond\, Montréal\, Québec\, H1X 2X2\, Canada
CATEGORIES:PROJET DE L'ORGANISME
ATTACH;FMTTYPE=image/jpeg:https://pceim.ca/wp-content/uploads/2018/01/calendrier-cafe-rencontre.jpg
END:VEVENT
END:VCALENDAR