BEGIN:VCALENDAR
VERSION:2.0
PRODID:-//Projet inclusion - ECPv5.11.0//NONSGML v1.0//EN
CALSCALE:GREGORIAN
METHOD:PUBLISH
X-WR-CALNAME:Projet inclusion
X-ORIGINAL-URL:https://pceim.ca
X-WR-CALDESC:évènements pour Projet inclusion
BEGIN:VTIMEZONE
TZID:UTC
BEGIN:STANDARD
TZOFFSETFROM:+0000
TZOFFSETTO:+0000
TZNAME:UTC
DTSTART:20190101T000000
END:STANDARD
END:VTIMEZONE
BEGIN:VEVENT
DTSTART;TZID=UTC:20190507T133000
DTEND;TZID=UTC:20190507T153000
DTSTAMP:20260424T035838
CREATED:20190415T141829Z
LAST-MODIFIED:20190415T143141Z
UID:819-1557235800-1557243000@pceim.ca
SUMMARY:Café-rencontre
DESCRIPTION:Le café-rencontre est un moment convivial de rencontre et d’échange sur une thématique ciblée\, choisie selon les besoins et préoccupations du groupe. Dans le cadre de la semaine de la santé mentale\, le thème sera la santé mentale. \nCAFÉ-RENCONTRE\nPCEIM | 5350\, rue Lafond\n13h30 à 15h30 | Gratuit \n+ GOOGLE AGENDA+ EXPORTER VERS ICAL
URL:https://pceim.ca/evenement/cafe-rencontre-29/
CATEGORIES:PROJET DE L'ORGANISME
ATTACH;FMTTYPE=image/jpeg:https://pceim.ca/wp-content/uploads/2019/04/calendrier-cafe-rencontre-300x200.jpg
END:VEVENT
END:VCALENDAR