BEGIN:VCALENDAR
VERSION:2.0
PRODID:-//Projet inclusion - ECPv5.11.0//NONSGML v1.0//EN
CALSCALE:GREGORIAN
METHOD:PUBLISH
X-WR-CALNAME:Projet inclusion
X-ORIGINAL-URL:https://pceim.ca
X-WR-CALDESC:évènements pour Projet inclusion
BEGIN:VTIMEZONE
TZID:UTC
BEGIN:STANDARD
TZOFFSETFROM:+0000
TZOFFSETTO:+0000
TZNAME:UTC
DTSTART:20200101T000000
END:STANDARD
END:VTIMEZONE
BEGIN:VEVENT
DTSTART;TZID=UTC:20200114T133000
DTEND;TZID=UTC:20200114T153000
DTSTAMP:20260422T201315
CREATED:20200106T164447Z
LAST-MODIFIED:20200106T164447Z
UID:1119-1579008600-1579015800@pceim.ca
SUMMARY:Café-rencontre
DESCRIPTION:Le café-rencontre est un moment convivial de rencontre et d’échange sur une thématique ciblée\, choisie selon les besoins et préoccupations du groupe.
URL:https://pceim.ca/evenement/cafe-rencontre-37/
LOCATION:PCEIM\, 5350 rue Lafond\, Montréal\, Québec\, H1X 2X2\, Canada
CATEGORIES:PROJET DE L'ORGANISME
ATTACH;FMTTYPE=image/jpeg:https://pceim.ca/wp-content/uploads/2019/04/calendrier-cafe-rencontre-300x200.jpg
END:VEVENT
END:VCALENDAR