BEGIN:VCALENDAR
VERSION:2.0
PRODID:-//Projet inclusion - ECPv5.11.0//NONSGML v1.0//EN
CALSCALE:GREGORIAN
METHOD:PUBLISH
X-WR-CALNAME:Projet inclusion
X-ORIGINAL-URL:https://pceim.ca
X-WR-CALDESC:évènements pour Projet inclusion
BEGIN:VTIMEZONE
TZID:UTC
BEGIN:STANDARD
TZOFFSETFROM:+0000
TZOFFSETTO:+0000
TZNAME:UTC
DTSTART:20220101T000000
END:STANDARD
END:VTIMEZONE
BEGIN:VEVENT
DTSTART;TZID=UTC:20220222T153000
DTEND;TZID=UTC:20220222T160000
DTSTAMP:20260421T172601
CREATED:20220204T172729Z
LAST-MODIFIED:20220204T173152Z
UID:1574-1645543800-1645545600@pceim.ca
SUMMARY:Café-rencontre
DESCRIPTION:CAFÉ-RENCONTRE\nCentre Lapalme | 5350 Lafond\n13h30 à 16h \nAvec la hausse des prix à l’épicerie\, s’alimenter sainement devient un défi pour plusieurs. Venez partager vos réflexions et préoccupations sur l’accès aux ressources alimentaires. Ce sera aussi une belle occasion d’échanger des astuces pour réussir à bien manger à petit prix.
URL:https://pceim.ca/evenement/cafe-rencontre-45/
LOCATION:PCEIM\, 5350 rue Lafond\, Montréal\, Québec\, H1X 2X2\, Canada
CATEGORIES:PROJET DE L'ORGANISME
ATTACH;FMTTYPE=image/jpeg:https://pceim.ca/wp-content/uploads/2018/01/calendrier-cafe-rencontre.jpg
END:VEVENT
END:VCALENDAR