BEGIN:VCALENDAR
VERSION:2.0
PRODID:-//Projet inclusion - ECPv5.11.0//NONSGML v1.0//EN
CALSCALE:GREGORIAN
METHOD:PUBLISH
X-WR-CALNAME:Projet inclusion
X-ORIGINAL-URL:https://pceim.ca
X-WR-CALDESC:évènements pour Projet inclusion
BEGIN:VTIMEZONE
TZID:UTC
BEGIN:STANDARD
TZOFFSETFROM:+0000
TZOFFSETTO:+0000
TZNAME:UTC
DTSTART:20220101T000000
END:STANDARD
END:VTIMEZONE
BEGIN:VEVENT
DTSTART;TZID=UTC:20220203T140000
DTEND;TZID=UTC:20220203T150000
DTSTAMP:20260422T035717
CREATED:20220204T163425Z
LAST-MODIFIED:20220204T175339Z
UID:1548-1643896800-1643900400@pceim.ca
SUMMARY:Café-rencontre en ligne
DESCRIPTION:CAFÉ-RENCONTRE virtuel\nEn ligne sur Zoom\n14h à 15h \nC’est le retour des cafés rencontres en ligne\, un moment d’échange virtuel! Nous en profiterons pour prendre des nouvelles et choisir les prochains sujets. Participez par ordinateur ou par téléphone. Les infos de connexion seront envoyées aux personnes inscrites.
URL:https://pceim.ca/evenement/cafe-rencontre-en-ligne/
LOCATION:PCEIM\, 5350 rue Lafond\, Montréal\, Québec\, H1X 2X2\, Canada
CATEGORIES:PROJET DE L'ORGANISME
ATTACH;FMTTYPE=image/jpeg:https://pceim.ca/wp-content/uploads/2019/04/calendrier-cafe-rencontre-300x200.jpg
END:VEVENT
END:VCALENDAR