BEGIN:VCALENDAR
VERSION:2.0
PRODID:-//Projet inclusion - ECPv5.11.0//NONSGML v1.0//EN
CALSCALE:GREGORIAN
METHOD:PUBLISH
X-WR-CALNAME:Projet inclusion
X-ORIGINAL-URL:https://pceim.ca
X-WR-CALDESC:évènements pour Projet inclusion
BEGIN:VTIMEZONE
TZID:UTC
BEGIN:STANDARD
TZOFFSETFROM:+0000
TZOFFSETTO:+0000
TZNAME:UTC
DTSTART:20230101T000000
END:STANDARD
END:VTIMEZONE
BEGIN:VEVENT
DTSTART;TZID=UTC:20230314T133000
DTEND;TZID=UTC:20230314T160000
DTSTAMP:20260421T112955
CREATED:20230220T192900Z
LAST-MODIFIED:20230220T192900Z
UID:2031-1678800600-1678809600@pceim.ca
SUMMARY:Café-rencontre : Espaces culturels Montréalais
DESCRIPTION:Viens échanger et découvrir les nombreux espaces culturels montréalais. Ensemble nous partagerons des trucs pour faciliter l’accès à petits prix à différentes formes d’expositions et de spectacles.\nLe tout autour d’un breuvage et d’une collation.
URL:https://pceim.ca/evenement/cafe-rencontre-espaces-culturels-montrealais/
CATEGORIES:PROJET DE L'ORGANISME
END:VEVENT
END:VCALENDAR