BEGIN:VCALENDAR
VERSION:2.0
PRODID:-//Projet inclusion - ECPv5.11.0//NONSGML v1.0//EN
CALSCALE:GREGORIAN
METHOD:PUBLISH
X-WR-CALNAME:Projet inclusion
X-ORIGINAL-URL:https://pceim.ca
X-WR-CALDESC:évènements pour Projet inclusion
BEGIN:VTIMEZONE
TZID:UTC
BEGIN:STANDARD
TZOFFSETFROM:+0000
TZOFFSETTO:+0000
TZNAME:UTC
DTSTART:20230101T000000
END:STANDARD
END:VTIMEZONE
BEGIN:VEVENT
DTSTART;TZID=UTC:20230328T133000
DTEND;TZID=UTC:20230328T160000
DTSTAMP:20260421T123710
CREATED:20230220T193542Z
LAST-MODIFIED:20230220T193542Z
UID:2037-1680010200-1680019200@pceim.ca
SUMMARY:Café-rencontre : Intimité et relations interpersonnelles
DESCRIPTION:Viens discuter sur les relations interpersonnelles et la démystification des tabous sur les concepts d’intimité et de la sexualité avec Antoine Thibault\, sexologue et psychothérapeute. Le tout autour d’un breuvage et d’une collation.
URL:https://pceim.ca/evenement/cafe-rencontre-intimite-et-relations-interpersonnelles/
CATEGORIES:PROJET DE L'ORGANISME
END:VEVENT
END:VCALENDAR