BEGIN:VCALENDAR
VERSION:2.0
PRODID:-//Projet inclusion - ECPv5.11.0//NONSGML v1.0//EN
CALSCALE:GREGORIAN
METHOD:PUBLISH
X-WR-CALNAME:Projet inclusion
X-ORIGINAL-URL:https://pceim.ca
X-WR-CALDESC:évènements pour Projet inclusion
BEGIN:VTIMEZONE
TZID:UTC
BEGIN:STANDARD
TZOFFSETFROM:+0000
TZOFFSETTO:+0000
TZNAME:UTC
DTSTART:20200101T000000
END:STANDARD
END:VTIMEZONE
BEGIN:VEVENT
DTSTART;TZID=UTC:20200218T120000
DTEND;TZID=UTC:20200218T170000
DTSTAMP:20260422T171747
CREATED:20200106T171200Z
LAST-MODIFIED:20200106T171200Z
UID:1153-1582027200-1582045200@pceim.ca
SUMMARY:Cinéma et café-discussion
DESCRIPTION:CINÉMA ET CAFÉ-DISCUSSION\nCinéma Quartier Latin | 350\, rue Émery\nHeure/film à confirmer | Film gratuit\, breuvage à vos frais\nDurée de l’activité : environ 2h30\, en après-midi \nLe mardi 18 février\, en après-midi\, venez voir un film suivi d’un café-discussion! Le film et l’horaire exact seront confirmés plus tard. Film gratuit\, breuvage à vos frais (prévoir 5$ si vous voulez un breuvage). Places limitées\, inscription au 514-255-1054.
URL:https://pceim.ca/evenement/cinema-et-cafe-discussion-2/
LOCATION:Cinéma Quartier Latin\, 350 Émery\, Quebec\, Canada
CATEGORIES:ACTIVITÉ ORGANISÉE PAR LES MEMBRES
END:VEVENT
END:VCALENDAR