BEGIN:VCALENDAR
VERSION:2.0
PRODID:-//Projet inclusion - ECPv5.11.0//NONSGML v1.0//EN
CALSCALE:GREGORIAN
METHOD:PUBLISH
X-WR-CALNAME:Projet inclusion
X-ORIGINAL-URL:https://pceim.ca
X-WR-CALDESC:évènements pour Projet inclusion
BEGIN:VTIMEZONE
TZID:UTC
BEGIN:STANDARD
TZOFFSETFROM:+0000
TZOFFSETTO:+0000
TZNAME:UTC
DTSTART:20200101T000000
END:STANDARD
END:VTIMEZONE
BEGIN:VEVENT
DTSTART;TZID=UTC:20200118T000000
DTEND;TZID=UTC:20200118T000000
DTSTAMP:20260422T185151
CREATED:20200106T170319Z
LAST-MODIFIED:20200106T170319Z
UID:1141-1579305600-1579305600@pceim.ca
SUMMARY:Cinéma et café-discussion
DESCRIPTION:CINÉMA ET CAFÉ-DISCUSSION\nCinéma Quartier Latin | 350\, rue Émery\nHeure/film à confirmer | Film gratuit\, breuvage à vos frais\nDurée de l’activité : environ 2h30\, en après-midi
URL:https://pceim.ca/evenement/cinema-et-cafe-discussion/
LOCATION:Cinéma Quartier Latin\, 350 Émery\, Quebec\, Canada
CATEGORIES:ACTIVITÉ ORGANISÉE PAR LES MEMBRES
END:VEVENT
END:VCALENDAR