BEGIN:VCALENDAR
VERSION:2.0
PRODID:-//Projet inclusion - ECPv5.11.0//NONSGML v1.0//EN
CALSCALE:GREGORIAN
METHOD:PUBLISH
X-WR-CALNAME:Projet inclusion
X-ORIGINAL-URL:https://pceim.ca
X-WR-CALDESC:évènements pour Projet inclusion
BEGIN:VTIMEZONE
TZID:UTC
BEGIN:STANDARD
TZOFFSETFROM:+0000
TZOFFSETTO:+0000
TZNAME:UTC
DTSTART:20180101T000000
END:STANDARD
END:VTIMEZONE
BEGIN:VEVENT
DTSTART;TZID=UTC:20180123T140000
DTEND;TZID=UTC:20180123T160000
DTSTAMP:20260424T024105
CREATED:20180108T191138Z
LAST-MODIFIED:20180108T191138Z
UID:353-1516716000-1516723200@pceim.ca
SUMMARY:Comité consultatif
DESCRIPTION:Cette session\, on vous invite à une séance d’information pour vous présenter un nouveau comité qui se met en place au PCEIM. Cette nouvelle instance de participation\, le comité consultatif\, se veut un espace mixte d’apprentissage collectif\, de discussion et d’idéation entre membres et bénévoles. Le comité aura comme mandat de réfléchir à des idées pour la création de projets porteurs d’envergure pour l’organisme. \nCette première rencontre vous permettra de découvrir le fonctionnement et les différents objectifs du comité\, pour voir si c’est une implication qui vous intéresse.\nPour en apprendre plus sur ce comité et vous y joindre\, inscrivez-vous à cette séance d’information qui aura lieu le mardi 23 janvier\, de 14h à 16h\, au PCEIM.
URL:https://pceim.ca/evenement/comite-consultatif/
LOCATION:PCEIM\, 5350 rue Lafond\, Montréal\, Québec\, H1X 2X2\, Canada
CATEGORIES:PROJET DE L'ORGANISME
END:VEVENT
END:VCALENDAR