BEGIN:VCALENDAR
VERSION:2.0
PRODID:-//Projet inclusion - ECPv5.11.0//NONSGML v1.0//EN
CALSCALE:GREGORIAN
METHOD:PUBLISH
X-WR-CALNAME:Projet inclusion
X-ORIGINAL-URL:https://pceim.ca
X-WR-CALDESC:évènements pour Projet inclusion
BEGIN:VTIMEZONE
TZID:UTC
BEGIN:STANDARD
TZOFFSETFROM:+0000
TZOFFSETTO:+0000
TZNAME:UTC
DTSTART:20200101T000000
END:STANDARD
END:VTIMEZONE
BEGIN:VEVENT
DTSTART;TZID=UTC:20200207T133000
DTEND;TZID=UTC:20200207T150000
DTSTAMP:20260422T201802
CREATED:20200106T165814Z
LAST-MODIFIED:20200106T165814Z
UID:1133-1581082200-1581087600@pceim.ca
SUMMARY:Comité des membres
DESCRIPTION:RENCONTRE DU COMITÉ DES MEMBRES\nPCEIM | 5350\, rue Lafond\n13h30 à 15h | 2 places réservées à des invités\nqui souhaitent découvrir le fonctionnement du comité
URL:https://pceim.ca/evenement/comite-des-membres-4/
LOCATION:PCEIM\, 5350 rue Lafond\, Montréal\, Québec\, H1X 2X2\, Canada
CATEGORIES:PROJET DE L'ORGANISME
END:VEVENT
END:VCALENDAR