BEGIN:VCALENDAR
VERSION:2.0
PRODID:-//Projet inclusion - ECPv5.11.0//NONSGML v1.0//EN
CALSCALE:GREGORIAN
METHOD:PUBLISH
X-WR-CALNAME:Projet inclusion
X-ORIGINAL-URL:https://pceim.ca
X-WR-CALDESC:évènements pour Projet inclusion
BEGIN:VTIMEZONE
TZID:UTC
BEGIN:STANDARD
TZOFFSETFROM:+0000
TZOFFSETTO:+0000
TZNAME:UTC
DTSTART:20220101T000000
END:STANDARD
END:VTIMEZONE
BEGIN:VEVENT
DTSTART;TZID=UTC:20220111T140000
DTEND;TZID=UTC:20220111T153000
DTSTAMP:20260420T135101
CREATED:20220113T175034Z
LAST-MODIFIED:20220113T175805Z
UID:1531-1641909600-1641915000@pceim.ca
SUMMARY:Comité des membres
DESCRIPTION:COMITÉ DES MEMBRES\nMODIFIÉ : En virutel sur Zoom\n14h à 15h30 \nLe comité des membres se réunit pour choisir et organiser une activité dans la programmation du PCEIM du mois suivant. Il est aussi possible de s’impliquer dans l’organisation et l’animation d’activités variées. N’hésite pas à appeler pour t’impliquer\, il y a de la place pour toi et tes idées!
URL:https://pceim.ca/evenement/comite-des-membres-5/
LOCATION:PCEIM\, 5350 rue Lafond\, Montréal\, Québec\, H1X 2X2\, Canada
CATEGORIES:PROJET DE L'ORGANISME
END:VEVENT
END:VCALENDAR