BEGIN:VCALENDAR
VERSION:2.0
PRODID:-//Projet inclusion - ECPv5.11.0//NONSGML v1.0//EN
CALSCALE:GREGORIAN
METHOD:PUBLISH
X-WR-CALNAME:Projet inclusion
X-ORIGINAL-URL:https://pceim.ca
X-WR-CALDESC:évènements pour Projet inclusion
BEGIN:VTIMEZONE
TZID:UTC
BEGIN:STANDARD
TZOFFSETFROM:+0000
TZOFFSETTO:+0000
TZNAME:UTC
DTSTART:20220101T000000
END:STANDARD
END:VTIMEZONE
BEGIN:VEVENT
DTSTART;TZID=UTC:20220412T140000
DTEND;TZID=UTC:20220412T153000
DTSTAMP:20260421T150550
CREATED:20220404T162841Z
LAST-MODIFIED:20220404T175631Z
UID:1684-1649772000-1649777400@pceim.ca
SUMMARY:Comité des membres
DESCRIPTION:COMITÉ DES MEMBRES\nCentre Lapalme | 5350 Lafond\n14h à 15h30 \nLe comité des membres se réunit pour choisir et organiser une activité dans la programmation du PCEIM du mois suivant. Il est aussi possible de s’impliquer dans l’organisation et l’animation d’activités variées. N’hésite pas à appeler pour t’impliquer\, il y a de la place pour toi et tes idées!
URL:https://pceim.ca/evenement/comite-des-membres-7/
LOCATION:PCEIM\, 5350 rue Lafond\, Montréal\, Québec\, H1X 2X2\, Canada
CATEGORIES:PROJET DE L'ORGANISME
END:VEVENT
END:VCALENDAR