BEGIN:VCALENDAR
VERSION:2.0
PRODID:-//Projet inclusion - ECPv5.11.0//NONSGML v1.0//EN
CALSCALE:GREGORIAN
METHOD:PUBLISH
X-WR-CALNAME:Projet inclusion
X-ORIGINAL-URL:https://pceim.ca
X-WR-CALDESC:évènements pour Projet inclusion
BEGIN:VTIMEZONE
TZID:UTC
BEGIN:STANDARD
TZOFFSETFROM:+0000
TZOFFSETTO:+0000
TZNAME:UTC
DTSTART:20230101T000000
END:STANDARD
END:VTIMEZONE
BEGIN:VEVENT
DTSTART;TZID=UTC:20230110T140000
DTEND;TZID=UTC:20230110T153000
DTSTAMP:20260420T234351
CREATED:20230110T201135Z
LAST-MODIFIED:20230110T201600Z
UID:1910-1673359200-1673364600@pceim.ca
SUMMARY:Comité des membres
DESCRIPTION:Le comité des membres se réunit pour choisir et organiser une activité dans la programmation pour le mois prochain.
URL:https://pceim.ca/evenement/comite-des-membres-9/
LOCATION:PCEIM\, 5350 rue Lafond\, Montréal\, Québec\, H1X 2X2\, Canada
CATEGORIES:ACTIVITÉ ORGANISÉE PAR LES MEMBRES,PROJET DE L'ORGANISME
END:VEVENT
END:VCALENDAR