BEGIN:VCALENDAR
VERSION:2.0
PRODID:-//Projet inclusion - ECPv5.11.0//NONSGML v1.0//EN
CALSCALE:GREGORIAN
METHOD:PUBLISH
X-WR-CALNAME:Projet inclusion
X-ORIGINAL-URL:https://pceim.ca
X-WR-CALDESC:évènements pour Projet inclusion
BEGIN:VTIMEZONE
TZID:UTC
BEGIN:STANDARD
TZOFFSETFROM:+0000
TZOFFSETTO:+0000
TZNAME:UTC
DTSTART:20180101T000000
END:STANDARD
END:VTIMEZONE
BEGIN:VEVENT
DTSTART;TZID=UTC:20180511T130000
DTEND;TZID=UTC:20180511T150000
DTSTAMP:20260424T025709
CREATED:20180323T161805Z
LAST-MODIFIED:20180323T161805Z
UID:512-1526043600-1526050800@pceim.ca
SUMMARY:Comité des membres
DESCRIPTION:Vous songez à participer au comité des membres du PCEIM et vous voulez savoir comment ça marche? On vous invite à y assister comme invité pour découvrir le fonctionnement\, et vous y joindre si ça vous intéresse! Le comité organise des activités sociales et culturelles pour l’ensemble des membres et s’implique dans la représentation du comité et du PCEIM. Les places sont limitées à 2 invités par rencontre. Si ça vous intéresse\, inscrivez-vous au 514-255-1054 pour assister à la prochaine rencontre\, le vendredi 11 mai de 13h à 15h.
URL:https://pceim.ca/evenement/comite-des-membres/
LOCATION:PCEIM\, 5350 rue Lafond\, Montréal\, Québec\, H1X 2X2\, Canada
CATEGORIES:PROJET DE L'ORGANISME
END:VEVENT
END:VCALENDAR