BEGIN:VCALENDAR
VERSION:2.0
PRODID:-//Projet inclusion - ECPv5.11.0//NONSGML v1.0//EN
CALSCALE:GREGORIAN
METHOD:PUBLISH
X-WR-CALNAME:Projet inclusion
X-ORIGINAL-URL:https://pceim.ca
X-WR-CALDESC:évènements pour Projet inclusion
BEGIN:VTIMEZONE
TZID:UTC
BEGIN:STANDARD
TZOFFSETFROM:+0000
TZOFFSETTO:+0000
TZNAME:UTC
DTSTART:20180101T000000
END:STANDARD
END:VTIMEZONE
BEGIN:VEVENT
DTSTART;TZID=UTC:20181016T130000
DTEND;TZID=UTC:20181016T150000
DTSTAMP:20260424T050331
CREATED:20180925T211028Z
LAST-MODIFIED:20180925T211028Z
UID:630-1539694800-1539702000@pceim.ca
SUMMARY:Comité des membres consultatif
DESCRIPTION:Mardi 16 oct. : Comité des membres consultatif\nUne fois par session\, on vous propose désormais une rencontre de comité des membres consultative\, où nos membres\, bénévoles et partenaires sont invités à réfléchir ensemble à des projets d’envergure pour l’organisme\, comme nos projets de murale artistique et de photo réalisés dans les dernières années. Quel sera le prochain projet d’envergure? À vous d’alimenter la discussion afin d’élaborer un projet qui nous ressemble et nous rassemble tous\, le 16 octobre prochain!
URL:https://pceim.ca/evenement/comite-membres-consultatif/
LOCATION:PCEIM\, 5350 rue Lafond\, Montréal\, Québec\, H1X 2X2\, Canada
CATEGORIES:PROJET DE L'ORGANISME
END:VEVENT
END:VCALENDAR