BEGIN:VCALENDAR
VERSION:2.0
PRODID:-//Projet inclusion - ECPv5.11.0//NONSGML v1.0//EN
CALSCALE:GREGORIAN
METHOD:PUBLISH
X-WR-CALNAME:Projet inclusion
X-ORIGINAL-URL:https://pceim.ca
X-WR-CALDESC:évènements pour Projet inclusion
BEGIN:VTIMEZONE
TZID:UTC
BEGIN:STANDARD
TZOFFSETFROM:+0000
TZOFFSETTO:+0000
TZNAME:UTC
DTSTART:20180101T000000
END:STANDARD
END:VTIMEZONE
BEGIN:VEVENT
DTSTART;TZID=UTC:20181120T133000
DTEND;TZID=UTC:20181120T150000
DTSTAMP:20260423T000052
CREATED:20180925T211842Z
LAST-MODIFIED:20180925T211842Z
UID:642-1542720600-1542726000@pceim.ca
SUMMARY:Comité planif Noël
DESCRIPTION:Vous voulez vous impliquer et réfléchir en groupe à une belle fête rassembleuse? On est présentement à la recherche de membres et bénévoles qui souhaitent donner de leur temps pour organiser la fête de Noël du PCEIM\, dans l’esprit de partage et d’échange du temps des fêtes. Quelle sera la formule de l’évènement\, l’animation\, la déco… ce sera à vous de décider! \nNous formons un comité pour réfléchir à la fête\, qui se réunira trois fois en novembre et décembre. Les rencontres auront lieu les mardis\, les 6 et 20 novembre et le 4 décembre\, de 13h30 à 15h au PCEIM (5350\, rue Lafond). Pour vous impliquer et prendre part aux 3 rencontres du comité\, inscrivez-vous au 514-255-1054. Faites vite\, les places sont limitées!
URL:https://pceim.ca/evenement/comite-planif-noel-3/
LOCATION:PCEIM\, 5350 rue Lafond\, Montréal\, Québec\, H1X 2X2\, Canada
CATEGORIES:PROJET DE L'ORGANISME
END:VEVENT
END:VCALENDAR