BEGIN:VCALENDAR
VERSION:2.0
PRODID:-//Projet inclusion - ECPv5.11.0//NONSGML v1.0//EN
CALSCALE:GREGORIAN
METHOD:PUBLISH
X-WR-CALNAME:Projet inclusion
X-ORIGINAL-URL:https://pceim.ca
X-WR-CALDESC:évènements pour Projet inclusion
BEGIN:VTIMEZONE
TZID:UTC
BEGIN:STANDARD
TZOFFSETFROM:+0000
TZOFFSETTO:+0000
TZNAME:UTC
DTSTART:20200101T000000
END:STANDARD
END:VTIMEZONE
BEGIN:VEVENT
DTSTART;TZID=UTC:20200319T133000
DTEND;TZID=UTC:20200319T150000
DTSTAMP:20260422T143006
CREATED:20200106T172249Z
LAST-MODIFIED:20200106T172249Z
UID:1158-1584624600-1584630000@pceim.ca
SUMMARY:Comité pliage
DESCRIPTION:COMITÉ PLIAGE\nPCEIM | 5350\, rue Lafond\n13h30 à 15h | Gratuit \nJoignez-vous à nous pour aider à l’envoi du prochain ÉCHO!
URL:https://pceim.ca/evenement/comite-pliage-2/
LOCATION:PCEIM\, 5350 rue Lafond\, Montréal\, Québec\, H1X 2X2\, Canada
CATEGORIES:PROJET DE L'ORGANISME
END:VEVENT
END:VCALENDAR