BEGIN:VCALENDAR
VERSION:2.0
PRODID:-//Projet inclusion - ECPv5.11.0//NONSGML v1.0//EN
CALSCALE:GREGORIAN
METHOD:PUBLISH
X-WR-CALNAME:Projet inclusion
X-ORIGINAL-URL:https://pceim.ca
X-WR-CALDESC:évènements pour Projet inclusion
BEGIN:VTIMEZONE
TZID:UTC
BEGIN:STANDARD
TZOFFSETFROM:+0000
TZOFFSETTO:+0000
TZNAME:UTC
DTSTART:20190101T000000
END:STANDARD
END:VTIMEZONE
BEGIN:VEVENT
DTSTART;TZID=UTC:20190620T133000
DTEND;TZID=UTC:20190620T150000
DTSTAMP:20260424T035548
CREATED:20190306T154330Z
LAST-MODIFIED:20190515T185055Z
UID:755-1561037400-1561042800@pceim.ca
SUMMARY:Comité Pliage
DESCRIPTION:Le jeudi 20 juin\, on vous propose de nous aider avec notre publication trimestrielle l’Echo\, de partager vos commentaires et idées et de venir le plier avec nous lors d’un comité pliage! Inscription au 514-255-1054. \nPCEIM | 5350\, rue Lafond\n13h30 à 15h30 | Gratuit \n+ GOOGLE AGENDA+ EXPORTER VERS ICAL \n 
URL:https://pceim.ca/evenement/comite-pliage/
CATEGORIES:PROJET DE L'ORGANISME
ATTACH;FMTTYPE=image/jpeg:https://pceim.ca/wp-content/uploads/2019/03/journal-lcho.jpg
END:VEVENT
END:VCALENDAR