BEGIN:VCALENDAR
VERSION:2.0
PRODID:-//Projet inclusion - ECPv5.11.0//NONSGML v1.0//EN
CALSCALE:GREGORIAN
METHOD:PUBLISH
X-WR-CALNAME:Projet inclusion
X-ORIGINAL-URL:https://pceim.ca
X-WR-CALDESC:évènements pour Projet inclusion
BEGIN:VTIMEZONE
TZID:UTC
BEGIN:STANDARD
TZOFFSETFROM:+0000
TZOFFSETTO:+0000
TZNAME:UTC
DTSTART:20220101T000000
END:STANDARD
END:VTIMEZONE
BEGIN:VEVENT
DTSTART;VALUE=DATE:20220415
DTEND;VALUE=DATE:20220419
DTSTAMP:20260421T155556
CREATED:20220404T180612Z
LAST-MODIFIED:20220404T180612Z
UID:1697-1649980800-1650326399@pceim.ca
SUMMARY:Congé de Pâques
DESCRIPTION:VENDREDI 15 AVRIL AU LUNDI 18 AVRIL \nCongé de pâques\nBureaux fermés \nVeuillez noter que les bureaux du PCEIM seront fermés et que l’équipe sera en congé du vendredi 15 avril au lundi 18 avril inclusivement pour Pâques.
URL:https://pceim.ca/evenement/conge-de-paques-3/
CATEGORIES:BUREAUX FERMÉS
END:VEVENT
END:VCALENDAR