BEGIN:VCALENDAR
VERSION:2.0
PRODID:-//Projet inclusion - ECPv5.11.0//NONSGML v1.0//EN
CALSCALE:GREGORIAN
METHOD:PUBLISH
X-WR-CALNAME:Projet inclusion
X-ORIGINAL-URL:https://pceim.ca
X-WR-CALDESC:évènements pour Projet inclusion
BEGIN:VTIMEZONE
TZID:UTC
BEGIN:STANDARD
TZOFFSETFROM:+0000
TZOFFSETTO:+0000
TZNAME:UTC
DTSTART:20200101T000000
END:STANDARD
END:VTIMEZONE
BEGIN:VEVENT
DTSTART;TZID=UTC:20200214T130000
DTEND;TZID=UTC:20200214T163000
DTSTAMP:20260422T184917
CREATED:20200106T170025Z
LAST-MODIFIED:20200106T170040Z
UID:1137-1581685200-1581697800@pceim.ca
SUMMARY:Cuisine collective
DESCRIPTION:Cuisinez des recettes variées\, développez vos habiletés en cuisine\, adoptez des saines habitudes alimentaires et contrez l’insécurité alimentaire. Le groupe sélectionne les recettes et se répartit les tâches collectivement. Activité au coût de 5$. Apportez vos plates/contenants pour rapporter des portions des plats cuisinés. Places limitées\, inscription au 514-255-1054. \nPCEIM | 5350\, rue Lafond \n13h à 16h30 | 5$ | Apportez vos contenants
URL:https://pceim.ca/evenement/cuisine-collective-19/
LOCATION:PCEIM\, 5350 rue Lafond\, Montréal\, Québec\, H1X 2X2\, Canada
CATEGORIES:PROJET DE L'ORGANISME
ATTACH;FMTTYPE=image/jpeg:https://pceim.ca/wp-content/uploads/2018/01/calendrier-planif-cuisine.jpg
END:VEVENT
END:VCALENDAR