BEGIN:VCALENDAR
VERSION:2.0
PRODID:-//Projet inclusion - ECPv5.11.0//NONSGML v1.0//EN
CALSCALE:GREGORIAN
METHOD:PUBLISH
X-WR-CALNAME:Projet inclusion
X-ORIGINAL-URL:https://pceim.ca
X-WR-CALDESC:évènements pour Projet inclusion
BEGIN:VTIMEZONE
TZID:UTC
BEGIN:STANDARD
TZOFFSETFROM:+0000
TZOFFSETTO:+0000
TZNAME:UTC
DTSTART:20180101T000000
END:STANDARD
END:VTIMEZONE
BEGIN:VEVENT
DTSTART;TZID=UTC:20180809T130000
DTEND;TZID=UTC:20180809T163000
DTSTAMP:20260423T232349
CREATED:20180703T155547Z
LAST-MODIFIED:20180703T155547Z
UID:578-1533819600-1533832200@pceim.ca
SUMMARY:Cuisine collective
DESCRIPTION:Cuisinez des recettes variées\, développez vos habiletés en cuisine\, adoptez des saines habitudes alimentaires et contrez l’insécurité alimentaire. Le groupe sélectionne les recettes et se répartit les tâches collectivement. Activité au coût de 4$.  Apportez vos plats/contenants pour rapporter des portions des plats cuisinés. Places limitées\, inscription au 514-255-1054.
URL:https://pceim.ca/evenement/cuisine-collective-7/
LOCATION:PCEIM\, 5350 rue Lafond\, Montréal\, Québec\, H1X 2X2\, Canada
CATEGORIES:PROJET DE L'ORGANISME
ATTACH;FMTTYPE=image/jpeg:https://pceim.ca/wp-content/uploads/2018/01/calendrier-planif-cuisine.jpg
END:VEVENT
END:VCALENDAR