BEGIN:VCALENDAR
VERSION:2.0
PRODID:-//Projet inclusion - ECPv5.11.0//NONSGML v1.0//EN
CALSCALE:GREGORIAN
METHOD:PUBLISH
X-WR-CALNAME:Projet inclusion
X-ORIGINAL-URL:https://pceim.ca
X-WR-CALDESC:évènements pour Projet inclusion
BEGIN:VTIMEZONE
TZID:UTC
BEGIN:STANDARD
TZOFFSETFROM:+0000
TZOFFSETTO:+0000
TZNAME:UTC
DTSTART:20180101T000000
END:STANDARD
END:VTIMEZONE
BEGIN:VEVENT
DTSTART;TZID=UTC:20180509T120000
DTEND;TZID=UTC:20180509T140000
DTSTAMP:20260424T035906
CREATED:20180323T161341Z
LAST-MODIFIED:20180323T161647Z
UID:507-1525867200-1525874400@pceim.ca
SUMMARY:Dîner à la crêperie
DESCRIPTION:Le mercredi 9 mai\, de 12h à 14h\, venez échanger dans une ambiance conviviale en prenant un repas dans une Crêperie bretonne authentique\, qui existe depuis 50 ans sur le Plateau-Mont-Royal. 10$ par personne. Places limitées\, inscription au 514-255-1054.
URL:https://pceim.ca/evenement/diner-a-creperie/
LOCATION:Crêperie Ty-Breiz\, 933 rue Rachel est\, Montréal\, Québec\, H2J 2J2\, Canada
CATEGORIES:ACTIVITÉ ORGANISÉE PAR LES MEMBRES
ATTACH;FMTTYPE=image/jpeg:https://pceim.ca/wp-content/uploads/2018/03/monika-grabkowska-575667-unsplash-copie.jpg
END:VEVENT
END:VCALENDAR