BEGIN:VCALENDAR
VERSION:2.0
PRODID:-//Projet inclusion - ECPv5.11.0//NONSGML v1.0//EN
CALSCALE:GREGORIAN
METHOD:PUBLISH
X-WR-CALNAME:Projet inclusion
X-ORIGINAL-URL:https://pceim.ca
X-WR-CALDESC:évènements pour Projet inclusion
BEGIN:VTIMEZONE
TZID:UTC
BEGIN:STANDARD
TZOFFSETFROM:+0000
TZOFFSETTO:+0000
TZNAME:UTC
DTSTART:20220101T000000
END:STANDARD
END:VTIMEZONE
BEGIN:VEVENT
DTSTART;TZID=UTC:20220527T120000
DTEND;TZID=UTC:20220527T134500
DTSTAMP:20260421T143820
CREATED:20220429T163557Z
LAST-MODIFIED:20220429T163735Z
UID:1764-1653652800-1653659100@pceim.ca
SUMMARY:Dîner au restaurant Nickels
DESCRIPTION:Dîner au restaurant nickels\nnickels | 6950 St-Hubert\n12h à 13h45 | 10$/personne \nLe comité des membres du PCEIM vous invite à partager un bon moment au restaurant en compagnie des membres. Avec l’arrivée du beau temps\, nous espérons profiter de la terrasse avec vous. Une belle occasion de discuter dans une atmosphère décontractée!
URL:https://pceim.ca/evenement/diner-au-restaurant-nickels/
LOCATION:Nickels\, 6950 rue St-Hubert\, Montréal\, Quebec\, Canada
CATEGORIES:ACTIVITÉ ORGANISÉE PAR LES MEMBRES
END:VEVENT
END:VCALENDAR